BEGIN:VCALENDAR
VERSION:2.0
PRODID:-//TB3 Bar &amp; Grill - ECPv6.15.20//NONSGML v1.0//EN
CALSCALE:GREGORIAN
METHOD:PUBLISH
X-ORIGINAL-URL:https://tb3barandgrill.com
X-WR-CALDESC:Events for TB3 Bar &amp; Grill
REFRESH-INTERVAL;VALUE=DURATION:PT1H
X-Robots-Tag:noindex
X-PUBLISHED-TTL:PT1H
BEGIN:VTIMEZONE
TZID:America/New_York
BEGIN:DAYLIGHT
TZOFFSETFROM:-0500
TZOFFSETTO:-0400
TZNAME:EDT
DTSTART:20240310T070000
END:DAYLIGHT
BEGIN:STANDARD
TZOFFSETFROM:-0400
TZOFFSETTO:-0500
TZNAME:EST
DTSTART:20241103T060000
END:STANDARD
BEGIN:DAYLIGHT
TZOFFSETFROM:-0500
TZOFFSETTO:-0400
TZNAME:EDT
DTSTART:20250309T070000
END:DAYLIGHT
BEGIN:STANDARD
TZOFFSETFROM:-0400
TZOFFSETTO:-0500
TZNAME:EST
DTSTART:20251102T060000
END:STANDARD
BEGIN:DAYLIGHT
TZOFFSETFROM:-0500
TZOFFSETTO:-0400
TZNAME:EDT
DTSTART:20260308T070000
END:DAYLIGHT
BEGIN:STANDARD
TZOFFSETFROM:-0400
TZOFFSETTO:-0500
TZNAME:EST
DTSTART:20261101T060000
END:STANDARD
END:VTIMEZONE
BEGIN:VEVENT
DTSTART;TZID=America/New_York:20251003T080000
DTEND;TZID=America/New_York:20251115T170000
DTSTAMP:20260421T003848
CREATED:20251003T170752Z
LAST-MODIFIED:20251105T161446Z
UID:507-1759478400-1763226000@tb3barandgrill.com
SUMMARY:A Night of Jazz
DESCRIPTION:This event has been cancelled due to the current condition of the economy. If you would like to donate to support HOA\,Inc with Feed Those in Need community enrichment event\, click the link to donate today! \n  \nTB3 Event Center Presents A Night of Jazz on November 15\, 2025\, from 5p to 9p at TB3 Event Center. \nBe prepared for an opulent four-course affair with curated wine pairing. Sean Guy of Water Chocolate is the featured chef of the night. Ther will be an Open Bar from 5p to 6p. Live Jazz music all night. Get your tickets now!!
URL:https://tb3barandgrill.com/event/a-night-of-jazz/
LOCATION:TB3 Event Center\, 203 W Bel Air Avenue\, Aberdeen\, MD\, 21001\, United States
ATTACH;FMTTYPE=image/jpeg:https://tb3barandgrill.com/wp-content/uploads/2025/10/IMG_8813.jpg
END:VEVENT
BEGIN:VEVENT
DTSTART;TZID=America/New_York:20251031T210000
DTEND;TZID=America/New_York:20251101T013000
DTSTAMP:20260421T003848
CREATED:20250927T215306Z
LAST-MODIFIED:20250927T215306Z
UID:488-1761944400-1761960600@tb3barandgrill.com
SUMMARY:Halloween Fright Night
DESCRIPTION:TB3 Bar & Grill will be hosting a DoggFather Production presentation of Halloween Fright Night. DJ Stretch starts up the festivities at 9pm. There will be a night that includes drink specials\, food specials & costume contest. DoggFather Productions will award a $50 prize to each category: female\, male\, and overall costume! Tickets $10 in advance or $20 @ the door. Get your tickets now!
URL:https://tb3barandgrill.com/event/halloween-fright-night/
LOCATION:TB3 Bar & Grill\, 705 S. Philadelphia Blvd\, Aberdeen\, MD\, 21001\, United States
ATTACH;FMTTYPE=image/jpeg:https://tb3barandgrill.com/wp-content/uploads/2025/09/ae00261c4603053aa48a5811ac7eeb02.jpeg
END:VEVENT
BEGIN:VEVENT
DTSTART;TZID=America/New_York:20251101T170000
DTEND;TZID=America/New_York:20251101T210000
DTSTAMP:20260421T003848
CREATED:20250924T135207Z
LAST-MODIFIED:20250924T135233Z
UID:459-1762016400-1762030800@tb3barandgrill.com
SUMMARY:Pink Soul Benefit
DESCRIPTION:On 11/1/25 here at TB3 Bar & Grill come out in pink to support DIVAS Live will be having Pink Soul Benefit: To Support “Walk be Faith” Breast Cancer Organization \nDoors Open at 5pm\, Show starts at 6pm \n\nMusic Provided by- Carronne Jones Sawyer\nHosted by- Dennell Gainey\nMusical Director- Travis Higgins\n\nGet your tickets on EventBrite \nhttps://www.eventbrite.com/e/pink-soul-breast-cancer-benefit-concert-tickets-1668541776369?aff=oddtdtcreator
URL:https://tb3barandgrill.com/event/pink-soul-benefit/
LOCATION:TB3 Bar & Grill\, 705 S. Philadelphia Blvd\, Aberdeen\, MD\, 21001\, United States
ATTACH;FMTTYPE=image/jpeg:https://tb3barandgrill.com/wp-content/uploads/2025/09/Pink-Soul.jpeg
END:VEVENT
END:VCALENDAR