BEGIN:VCALENDAR
VERSION:2.0
PRODID:-//TB3 Bar &amp; Grill - ECPv6.15.20//NONSGML v1.0//EN
CALSCALE:GREGORIAN
METHOD:PUBLISH
X-ORIGINAL-URL:https://tb3barandgrill.com
X-WR-CALDESC:Events for TB3 Bar &amp; Grill
REFRESH-INTERVAL;VALUE=DURATION:PT1H
X-Robots-Tag:noindex
X-PUBLISHED-TTL:PT1H
BEGIN:VTIMEZONE
TZID:America/New_York
BEGIN:DAYLIGHT
TZOFFSETFROM:-0500
TZOFFSETTO:-0400
TZNAME:EDT
DTSTART:20240310T070000
END:DAYLIGHT
BEGIN:STANDARD
TZOFFSETFROM:-0400
TZOFFSETTO:-0500
TZNAME:EST
DTSTART:20241103T060000
END:STANDARD
BEGIN:DAYLIGHT
TZOFFSETFROM:-0500
TZOFFSETTO:-0400
TZNAME:EDT
DTSTART:20250309T070000
END:DAYLIGHT
BEGIN:STANDARD
TZOFFSETFROM:-0400
TZOFFSETTO:-0500
TZNAME:EST
DTSTART:20251102T060000
END:STANDARD
BEGIN:DAYLIGHT
TZOFFSETFROM:-0500
TZOFFSETTO:-0400
TZNAME:EDT
DTSTART:20260308T070000
END:DAYLIGHT
BEGIN:STANDARD
TZOFFSETFROM:-0400
TZOFFSETTO:-0500
TZNAME:EST
DTSTART:20261101T060000
END:STANDARD
END:VTIMEZONE
BEGIN:VEVENT
DTSTART;TZID=America/New_York:20250424T184500
DTEND;TZID=America/New_York:20250529T203000
DTSTAMP:20260421T120310
CREATED:20250415T200839Z
LAST-MODIFIED:20250501T200122Z
UID:359-1745520300-1748550600@tb3barandgrill.com
SUMMARY:Southern Soul Trail Ride Line Dance Class
DESCRIPTION:TB3 Event Center & DMV Pressure presents Southern Soul Trail Ride Line Dance Class starting on April 24\, 2025\, every Thursday night from 7p to 830p at TB3 Event Center Doors open at 645p. Learn how to walk that walk & don’t forget your fans! Tickets are $15 in advance or $20 @ the door.
URL:https://tb3barandgrill.com/event/southern-soul-trail-ride-line-dance-class/
LOCATION:TB3 Event Center\, 203 W Bel Air Avenue\, Aberdeen\, MD\, 21001\, United States
ATTACH;FMTTYPE=image/png:https://tb3barandgrill.com/wp-content/uploads/2025/04/image0.png
ORGANIZER;CN="TB3 Event Center":MAILTO:info@tb3eventcenter.com
END:VEVENT
BEGIN:VEVENT
DTSTART;TZID=America/New_York:20250426T203000
DTEND;TZID=America/New_York:20250427T003000
DTSTAMP:20260421T120310
CREATED:20250311T160623Z
LAST-MODIFIED:20250312T135529Z
UID:340-1745699400-1745713800@tb3barandgrill.com
SUMMARY:Game Night in the Lounge
DESCRIPTION:TB3 Event Center Presents Another Old School Reunion: Game Night in the Lounge on April 26\, 2025\, at 203 W Bel Air Ave. Aberdeen\, MD 21001. Doors open at 8:30 pm & games start at 9pm. Dj Dredd will provide live entertainment; light buffet will be served & a Cash Bar will be available. Games played include spades\, chess\, checkers and the list can go on…. \nTickets are $25 in advance or $30 at the door. You can follow the link to get your tickets now or you can stop by TB3 Bar & Grill to purchase your tickets as well.
URL:https://tb3barandgrill.com/event/game-night-in-the-lounge/
LOCATION:TB3 Event Center\, 203 W Bel Air Avenue\, Aberdeen\, MD\, 21001\, United States
ATTACH;FMTTYPE=image/jpeg:https://tb3barandgrill.com/wp-content/uploads/2025/03/Reunion-2.jpg
ORGANIZER;CN="TB3 Event Center":MAILTO:info@tb3eventcenter.com
END:VEVENT
END:VCALENDAR