BEGIN:VCALENDAR
VERSION:2.0
PRODID:-//TB3 Bar &amp; Grill - ECPv6.15.20//NONSGML v1.0//EN
CALSCALE:GREGORIAN
METHOD:PUBLISH
X-ORIGINAL-URL:https://tb3barandgrill.com
X-WR-CALDESC:Events for TB3 Bar &amp; Grill
REFRESH-INTERVAL;VALUE=DURATION:PT1H
X-Robots-Tag:noindex
X-PUBLISHED-TTL:PT1H
BEGIN:VTIMEZONE
TZID:America/New_York
BEGIN:DAYLIGHT
TZOFFSETFROM:-0500
TZOFFSETTO:-0400
TZNAME:EDT
DTSTART:20240310T070000
END:DAYLIGHT
BEGIN:STANDARD
TZOFFSETFROM:-0400
TZOFFSETTO:-0500
TZNAME:EST
DTSTART:20241103T060000
END:STANDARD
BEGIN:DAYLIGHT
TZOFFSETFROM:-0500
TZOFFSETTO:-0400
TZNAME:EDT
DTSTART:20250309T070000
END:DAYLIGHT
BEGIN:STANDARD
TZOFFSETFROM:-0400
TZOFFSETTO:-0500
TZNAME:EST
DTSTART:20251102T060000
END:STANDARD
BEGIN:DAYLIGHT
TZOFFSETFROM:-0500
TZOFFSETTO:-0400
TZNAME:EDT
DTSTART:20260308T070000
END:DAYLIGHT
BEGIN:STANDARD
TZOFFSETFROM:-0400
TZOFFSETTO:-0500
TZNAME:EST
DTSTART:20261101T060000
END:STANDARD
END:VTIMEZONE
BEGIN:VEVENT
DTSTART;TZID=America/New_York:20251220T210000
DTEND;TZID=America/New_York:20251221T013000
DTSTAMP:20260421T003808
CREATED:20251218T180736Z
LAST-MODIFIED:20251218T180736Z
UID:543-1766264400-1766280600@tb3barandgrill.com
SUMMARY:Mix & Mingle 2 Christmas Party
DESCRIPTION:On December 20\, 2025 from 9p to 130a\, TB3 Bar & Grill Will be hosting a Doggfather production event\, Mix & Mingle 2 Christmas party. $5 per advanced ticket or $10 at the door. Music by Dj Mook\, Emcee Camille & Young 21st.
URL:https://tb3barandgrill.com/event/mix-mingle-2-christmas-party/
LOCATION:TB3 Bar & Grill\, 705 S. Philadelphia Blvd\, Aberdeen\, MD\, 21001\, United States
ATTACH;FMTTYPE=image/jpeg:https://tb3barandgrill.com/wp-content/uploads/2025/12/IMG_0609.jpeg
END:VEVENT
END:VCALENDAR