BEGIN:VCALENDAR
VERSION:2.0
PRODID:-//TB3 Bar &amp; Grill - ECPv6.15.20//NONSGML v1.0//EN
CALSCALE:GREGORIAN
METHOD:PUBLISH
X-WR-CALNAME:TB3 Bar &amp; Grill
X-ORIGINAL-URL:https://tb3barandgrill.com
X-WR-CALDESC:Events for TB3 Bar &amp; Grill
REFRESH-INTERVAL;VALUE=DURATION:PT1H
X-Robots-Tag:noindex
X-PUBLISHED-TTL:PT1H
BEGIN:VTIMEZONE
TZID:America/New_York
BEGIN:DAYLIGHT
TZOFFSETFROM:-0500
TZOFFSETTO:-0400
TZNAME:EDT
DTSTART:20240310T070000
END:DAYLIGHT
BEGIN:STANDARD
TZOFFSETFROM:-0400
TZOFFSETTO:-0500
TZNAME:EST
DTSTART:20241103T060000
END:STANDARD
BEGIN:DAYLIGHT
TZOFFSETFROM:-0500
TZOFFSETTO:-0400
TZNAME:EDT
DTSTART:20250309T070000
END:DAYLIGHT
BEGIN:STANDARD
TZOFFSETFROM:-0400
TZOFFSETTO:-0500
TZNAME:EST
DTSTART:20251102T060000
END:STANDARD
BEGIN:DAYLIGHT
TZOFFSETFROM:-0500
TZOFFSETTO:-0400
TZNAME:EDT
DTSTART:20260308T070000
END:DAYLIGHT
BEGIN:STANDARD
TZOFFSETFROM:-0400
TZOFFSETTO:-0500
TZNAME:EST
DTSTART:20261101T060000
END:STANDARD
END:VTIMEZONE
BEGIN:VEVENT
DTSTART;TZID=America/New_York:20251214T150000
DTEND;TZID=America/New_York:20251214T190000
DTSTAMP:20260421T002801
CREATED:20251015T210438Z
LAST-MODIFIED:20251015T210438Z
UID:518-1765724400-1765738800@tb3barandgrill.com
SUMMARY:Sip & Paint with Antonio Moore
DESCRIPTION:Come out to TB3 Event Center on December 14\, 2025\, from 3p to 7p for Sip & Paint instructed by Antonio Moore. This is an instructed event with tickets starting at $40. A complimentary glass of wine or mimosa comes with each ticket. We are also offering a $60 ticket which comes with 5 glasses of Wine or Mimosas.
URL:https://tb3barandgrill.com/event/sip-paint-with-antonio-moore/
LOCATION:TB3 Event Center\, 203 W Bel Air Avenue\, Aberdeen\, MD\, 21001\, United States
ATTACH;FMTTYPE=image/jpeg:https://tb3barandgrill.com/wp-content/uploads/2025/10/Dec-14-Sip-Paint.jpg
END:VEVENT
END:VCALENDAR