BEGIN:VCALENDAR
VERSION:2.0
PRODID:-//TB3 Bar &amp; Grill - ECPv6.15.20//NONSGML v1.0//EN
CALSCALE:GREGORIAN
METHOD:PUBLISH
X-WR-CALNAME:TB3 Bar &amp; Grill
X-ORIGINAL-URL:https://tb3barandgrill.com
X-WR-CALDESC:Events for TB3 Bar &amp; Grill
REFRESH-INTERVAL;VALUE=DURATION:PT1H
X-Robots-Tag:noindex
X-PUBLISHED-TTL:PT1H
BEGIN:VTIMEZONE
TZID:America/New_York
BEGIN:DAYLIGHT
TZOFFSETFROM:-0500
TZOFFSETTO:-0400
TZNAME:EDT
DTSTART:20240310T070000
END:DAYLIGHT
BEGIN:STANDARD
TZOFFSETFROM:-0400
TZOFFSETTO:-0500
TZNAME:EST
DTSTART:20241103T060000
END:STANDARD
BEGIN:DAYLIGHT
TZOFFSETFROM:-0500
TZOFFSETTO:-0400
TZNAME:EDT
DTSTART:20250309T070000
END:DAYLIGHT
BEGIN:STANDARD
TZOFFSETFROM:-0400
TZOFFSETTO:-0500
TZNAME:EST
DTSTART:20251102T060000
END:STANDARD
BEGIN:DAYLIGHT
TZOFFSETFROM:-0500
TZOFFSETTO:-0400
TZNAME:EDT
DTSTART:20260308T070000
END:DAYLIGHT
BEGIN:STANDARD
TZOFFSETFROM:-0400
TZOFFSETTO:-0500
TZNAME:EST
DTSTART:20261101T060000
END:STANDARD
END:VTIMEZONE
BEGIN:VEVENT
DTSTART;TZID=America/New_York:20251003T080000
DTEND;TZID=America/New_York:20251115T170000
DTSTAMP:20260421T021755
CREATED:20251003T170752Z
LAST-MODIFIED:20251105T161446Z
UID:507-1759478400-1763226000@tb3barandgrill.com
SUMMARY:A Night of Jazz
DESCRIPTION:This event has been cancelled due to the current condition of the economy. If you would like to donate to support HOA\,Inc with Feed Those in Need community enrichment event\, click the link to donate today! \n  \nTB3 Event Center Presents A Night of Jazz on November 15\, 2025\, from 5p to 9p at TB3 Event Center. \nBe prepared for an opulent four-course affair with curated wine pairing. Sean Guy of Water Chocolate is the featured chef of the night. Ther will be an Open Bar from 5p to 6p. Live Jazz music all night. Get your tickets now!!
URL:https://tb3barandgrill.com/event/a-night-of-jazz/
LOCATION:TB3 Event Center\, 203 W Bel Air Avenue\, Aberdeen\, MD\, 21001\, United States
ATTACH;FMTTYPE=image/jpeg:https://tb3barandgrill.com/wp-content/uploads/2025/10/IMG_8813.jpg
END:VEVENT
END:VCALENDAR