BEGIN:VCALENDAR
VERSION:2.0
PRODID:-//TB3 Bar &amp; Grill - ECPv6.15.20//NONSGML v1.0//EN
CALSCALE:GREGORIAN
METHOD:PUBLISH
X-ORIGINAL-URL:https://tb3barandgrill.com
X-WR-CALDESC:Events for TB3 Bar &amp; Grill
REFRESH-INTERVAL;VALUE=DURATION:PT1H
X-Robots-Tag:noindex
X-PUBLISHED-TTL:PT1H
BEGIN:VTIMEZONE
TZID:America/New_York
BEGIN:DAYLIGHT
TZOFFSETFROM:-0500
TZOFFSETTO:-0400
TZNAME:EDT
DTSTART:20240310T070000
END:DAYLIGHT
BEGIN:STANDARD
TZOFFSETFROM:-0400
TZOFFSETTO:-0500
TZNAME:EST
DTSTART:20241103T060000
END:STANDARD
BEGIN:DAYLIGHT
TZOFFSETFROM:-0500
TZOFFSETTO:-0400
TZNAME:EDT
DTSTART:20250309T070000
END:DAYLIGHT
BEGIN:STANDARD
TZOFFSETFROM:-0400
TZOFFSETTO:-0500
TZNAME:EST
DTSTART:20251102T060000
END:STANDARD
BEGIN:DAYLIGHT
TZOFFSETFROM:-0500
TZOFFSETTO:-0400
TZNAME:EDT
DTSTART:20260308T070000
END:DAYLIGHT
BEGIN:STANDARD
TZOFFSETFROM:-0400
TZOFFSETTO:-0500
TZNAME:EST
DTSTART:20261101T060000
END:STANDARD
END:VTIMEZONE
BEGIN:VEVENT
DTSTART;TZID=America/New_York:20250628T183000
DTEND;TZID=America/New_York:20250628T230000
DTSTAMP:20260421T102015
CREATED:20250415T194819Z
LAST-MODIFIED:20250415T194819Z
UID:350-1751135400-1751151600@tb3barandgrill.com
SUMMARY:The Official Summer Comedy Showcase & Afterparty
DESCRIPTION:TB3 Bar & Grill and DJ Beadman Entertainment presents The Official Summer Comedy Showcase & Afterparty on June 28\, 2025\, at TB3 Bar & Grill from 6:30 p to 11 P. Show starts at 7p. Hosted by Barbie Brooks\, Presenting Bobby Wheels\, Jason Schwemmer\, Joe Joe Baby\, Rev T Mac\, Music by DJ Beadman and Headlining Lonnie Davis. Tickets are $25 in advance or $30 at the door. \n 
URL:https://tb3barandgrill.com/event/the-official-summer-comedy-showcase-afterparty/
LOCATION:TB3 Bar & Grill\, 705 S. Philadelphia Blvd\, Aberdeen\, MD\, 21001\, United States
ATTACH;FMTTYPE=image/jpeg:https://tb3barandgrill.com/wp-content/uploads/2025/04/217C7C94-F3AB-489D-A3FE-9B9F8DC9A0A4.jpg
END:VEVENT
END:VCALENDAR